{"text_format":"1","workbook":"xlsx","n_sheets":2,"sheets":["DATA ENTRY","FORM"],"not_rendered":{"charts":0,"images":0,"macros":0,"external_links":0,"defined_names":9,"comments":0,"pivot_tables":0},"unopened":[],"bounds":{"document_bytes":16777216,"sheet_cells":100000,"rows_first":2000,"rows_last":500,"rows_between":2000,"halvings":0,"cell_chars":16384,"cell_head_chars":4096},"cells_cut":0,"cells_raw":0,"read":"whole","date_system":"1900"}

{"sheet":"DATA ENTRY","index":0,"n_rows":25,"n_cols":8,"rows_kept":25,"cut":false,"hidden":false,"merged":[[2,2,2,5],[3,2,3,5],[4,0,4,1],[1,0,1,1],[2,0,2,1],[3,0,3,1]]}
[null,"ENTER TOURNAMENT DATA in Yellow cells only!!!"]
["DATE",null,"2019-08-17",null,{"$f":"TEXT(C2,\"dddd\")","v":"Saturday"}]
["TOURNAMENT",null,"Dick's Sporting Goods Open"]
["COURSE",null,"En-Joie Golf Club"]
["ROUND",null,"TWO"]
[null,"Green","To"]
["Hole","Depth","Hole","Left","Center","Right",{"$f":"\"+/-\"","v":"+/-"}]
[1,39,7,null,null,4,{"$f":"C8-(B8/2)","v":-12.5},{"$f":"IF(AND(ISBLANK(D8),ISBLANK(E8),ISBLANK(F8)),\"ENTER LEFT, RIGHT, OR CENTER DISTANCE\",IF(OR(AND(D8>0,E8>0),AND(D8>0,F8>0),AND(E8>0,F8>0)),\"YOU HAVE ENTERED TOO MANY DISTANCES!\",IF(AND(ISBLANK(D8),ISBLANK(F8),E8<>C8),\"CENTER DISTANCE SHOULD EQUAL DISTANCE TO HOLE \",IF(C8>B8,\"DISTANCE TO HOLE CANNOT BE GREATER THAN GREEN DEPTH\",IF(ISBLANK(C8),\"ENTER DISTANCE TO HOLE\",\"\")))))","v":""}]
[2,38,16,4,null,null,{"$f":"C9-(B9/2)","v":-3},{"$f":"IF(AND(ISBLANK(D9),ISBLANK(E9),ISBLANK(F9)),\"ENTER LEFT, RIGHT, OR CENTER DISTANCE\",IF(OR(AND(D9>0,E9>0),AND(D9>0,F9>0),AND(E9>0,F9>0)),\"YOU HAVE ENTERED TOO MANY DISTANCES!\",IF(AND(ISBLANK(D9),ISBLANK(F9),E9<>C9),\"CENTER DISTANCE SHOULD EQUAL DISTANCE TO HOLE \",IF(C9>B9,\"DISTANCE TO HOLE CANNOT BE GREATER THAN GREEN DEPTH\",IF(ISBLANK(C9),\"ENTER DISTANCE TO HOLE\",\"\")))))","v":""}]
[3,36,32,6,null,6,14,"YOU HAVE ENTERED TOO MANY DISTANCES!"]
[4,41,25,4,null,null,4.5,""]
[5,35,6,null,null,5,-11.5,""]
[6,39,35,4,null,null,15.5,""]
[7,41,8,null,null,4,-12.5,""]
[8,26,19,6,null,null,6,""]
[9,40,null,null,5,null,-20,"CENTER DISTANCE SHOULD EQUAL DISTANCE TO HOLE "]
[10,40,8,3,null,null,-12,""]
[11,35,30,4,null,null,12.5,""]
[12,26,23,7,null,14,10,"YOU HAVE ENTERED TOO MANY DISTANCES!"]
[13,36,25,null,null,5,7,""]
[14,36,27,5,null,null,9,""]
[15,29,26,null,null,9,11.5,""]
[16,27,22,null,null,9,8.5,""]
[17,47,22,null,null,4,-1.5,""]
[18,35,28,7,null,null,10.5,""]

{"sheet":"FORM","index":1,"n_rows":60,"n_cols":41,"rows_kept":60,"cut":false,"hidden":false,"merged":[[42,0,42,1],[12,14,12,15],[26,0,27,1],[32,14,32,15],[52,0,52,1],[52,14,52,15],[52,28,52,29],[2,28,2,29],[12,28,12,29],[22,28,22,29],[32,28,32,29],[32,0,32,1],[23,5,24,6],[23,7,24,8],[13,3,14,4],[33,19,34,20],[33,17,34,18],[22,5,22,6],[26,18,27,19],[26,20,27,21],[2,19,2,20],[6,18,7,19],[23,21,24,22],[36,20,37,21],[56,28,57,29],[46,28,47,29],[36,28,37,29],[26,28,27,29],[42,28,42,29],[2,0,2,1],[2,14,2,15],[12,0,12,1],[22,0,22,1],[36,0,37,1],[33,7,34,8],[36,4,37,5],[33,5,34,6],[52,5,52,6],[52,19,52,20],[42,19,42,20],[46,6,47,7],[46,18,47,19],[46,20,47,21],[43,5,44,6],[43,7,44,8],[43,19,44,20],[12,5,12,6],[23,3,24,4],[23,35,24,36],[56,0,57,1],[6,14,7,15],[16,14,17,15],[26,14,27,15],[36,14,37,15],[46,14,47,15],[56,14,57,15],[6,0,7,1],[16,28,17,29],[16,0,17,1],[22,14,22,15],[42,5,42,6],[46,4,47,5],[43,3,44,4],[32,19,32,20],[26,6,27,7],[23,17,24,18],[46,0,47,1],[36,6,37,7],[33,3,34,4],[32,5,32,6],[26,4,27,5],[42,14,42,15],[47,40,60,40],[47,39,60,39],[2,41,6,41],[42,33,42,34],[1,40,6,40],[8,39,14,39],[8,40,14,40],[12,33,12,34],[29,40,45,40],[16,40,27,40],[16,39,27,39],[32,33,32,34],[33,35,34,36],[29,39,45,39],[26,32,27,33],[26,34,27,35],[33,31,34,32],[43,31,44,32],[53,31,54,32],[53,35,54,36],[1,39,6,39],[56,32,57,33],[56,34,57,35],[22,33,22,34],[33,21,34,22],[23,19,24,20],[2,5,2,6],[3,3,4,4],[3,5,4,6],[6,6,7,7],[6,4,7,5],[3,7,4,8],[3,17,4,18],[3,19,4,20],[12,19,12,20],[16,6,17,7],[43,17,44,18],[23,31,24,32],[3,21,4,22],[6,20,7,21],[36,18,37,19],[22,19,22,20],[2,33,2,34],[3,31,4,32],[13,31,14,32],[13,33,14,34],[43,21,44,22],[43,33,44,34],[23,33,24,34],[6,28,7,29],[33,33,34,34],[36,32,37,33],[36,34,37,35],[13,35,14,36],[3,33,4,34],[3,35,4,36],[6,32,7,33],[6,34,7,35],[16,34,17,35],[16,32,17,33],[60,6,60,33],[13,17,14,18],[13,19,14,20],[13,21,14,22],[16,18,17,19],[16,20,17,21],[56,4,57,5],[56,6,57,7],[53,17,54,18],[53,19,54,20],[56,18,57,19],[56,20,57,21],[53,3,54,4],[53,5,54,6],[53,7,54,8],[53,21,54,22],[52,33,52,34],[46,34,47,35],[46,32,47,33],[43,35,44,36],[53,33,54,34],[13,5,14,6],[13,7,14,8],[16,4,17,5]]}
[]
[null,null,null,null,null,null,null,null,null,null,null,null,null,null,null,null,null,null,null,null,null,null,null,null,null,null,null,null,null,null,null,null,null,null,null,null,null,null,null,"ROUND",{"$f":"'DATA ENTRY'!C5","v":"TWO"}]
["# 1",null,null,null,null,null,null,null,null,null,null,null,null,null,"# 7",null,null,null,null,null,null,null,null,null,null,null,null,null,"# 13"]
[null,null,null,{"$f":"'DATA ENTRY'!$D$8","v":0},null,{"$f":"IF('DATA ENTRY'!$E$8>0,'DATA ENTRY'!$E$8,\"\")","v":""},null,{"$f":"'DATA ENTRY'!$F$8","v":4},null,null,null,"          ",null,"  ",null,null,null,{"$f":"'DATA ENTRY'!$D$14","v":0},null,{"$f":"IF('DATA ENTRY'!$E$14>0,'DATA ENTRY'!$E$14,\"\")","v":""},null,{"$f":"'DATA ENTRY'!$F$14","v":4},null,null,null,null,null,null,null,null,null,{"$f":"'DATA ENTRY'!$D$20","v":0},null,{"$f":"IF('DATA ENTRY'!$E$20>0,'DATA ENTRY'!$E$20,\"\")","v":""},null,{"$f":"'DATA ENTRY'!$F$20","v":5}]
[]
[null,null,{"$f":"'DATA ENTRY'!$D$8","v":0},{"$f":"'DATA ENTRY'!$D$8","v":0},{"$f":"'DATA ENTRY'!$D$8","v":0},{"$f":"IF('DATA ENTRY'!$E$8>0,'DATA ENTRY'!$E$8,'DATA ENTRY'!$D$8)","v":0},{"$f":"IF('DATA ENTRY'!$E$8>0,'DATA ENTRY'!$E$8,'DATA ENTRY'!$F$8)","v":4},{"$f":"'DATA ENTRY'!$F$8","v":4},{"$f":"'DATA ENTRY'!$F$8","v":4},{"$f":"'DATA ENTRY'!$F$8","v":4},null,null,null,null,null,null,{"$f":"'DATA ENTRY'!$D$14","v":0},{"$f":"'DATA ENTRY'!$D$14","v":0},{"$f":"'DATA ENTRY'!$D$14","v":0},{"$f":"IF('DATA ENTRY'!$E$14>0,'DATA ENTRY'!$E$14,'DATA ENTRY'!$D$14)","v":0},{"$f":"IF('DATA ENTRY'!$E$14>0,'DATA ENTRY'!$E$14,'DATA ENTRY'!$F$14)","v":4},{"$f":"'DATA ENTRY'!$F$14","v":4},{"$f":"'DATA ENTRY'!$F$14","v":4},{"$f":"'DATA ENTRY'!$F$14","v":4},null,null,null,null,null,null,{"$f":"'DATA ENTRY'!$D$20","v":0},{"$f":"'DATA ENTRY'!$D$20","v":0},{"$f":"'DATA ENTRY'!$D$20","v":0},{"$f":"IF('DATA ENTRY'!$E$20>0,'DATA ENTRY'!$E$20,'DATA ENTRY'!$D$20)","v":0},{"$f":"IF('DATA ENTRY'!$E$20>0,'DATA ENTRY'!$E$20,'DATA ENTRY'!$F$20)","v":5},{"$f":"'DATA ENTRY'!$F$20","v":5},{"$f":"'DATA ENTRY'!$F$20","v":5},{"$f":"'DATA ENTRY'!$F$20","v":5}]
[{"$f":"'DATA ENTRY'!$B$8","v":39},null,null,null,{"$f":"IF('DATA ENTRY'!$F$8>0,'DATA ENTRY'!$C$8,\"\")","v":7},null,{"$f":"IF('DATA ENTRY'!$D$8>0,'DATA ENTRY'!$C$8,\"\")","v":""},null,null,null,null,null,null,null,{"$f":"'DATA ENTRY'!$B$14","v":41},null,null,null,{"$f":"IF('DATA ENTRY'!$F$14>0,'DATA ENTRY'!$C$14,\"\")","v":8},null,{"$f":"IF('DATA ENTRY'!$D$14>0,'DATA ENTRY'!$C$14,\"\")","v":""},null,null,null,null,null,null,null,{"$f":"'DATA ENTRY'!$B$20","v":36},null,null,null,{"$f":"IF('DATA ENTRY'!$F$20>0,'DATA ENTRY'!$C$20,\"\")","v":25},null,{"$f":"IF('DATA ENTRY'!$D$20>0,'DATA ENTRY'!$C$20,\"\")","v":""}]
[]
[null,null,null,null,null,null,null,null,null,null,null,null,null,null,null,null,null,null,null,null,null,null,null,null,null,null,null,null,null,null,null,null,null,null,null,null,null,null,null,"DAY",{"$f":"'DATA ENTRY'!E2","v":"Saturday"}]
[]
[]
[]
["# 2",null,null,null,null,null,null,null,null,null,null,null,null,null,"# 8",null,null,null,null,null,null,null,null,null,null,null,null,null,"# 14"]
[null,null,null,{"$f":"'DATA ENTRY'!$D$9","v":4},null,{"$f":"IF('DATA ENTRY'!$E$9>0,'DATA ENTRY'!$E$9,\"\")","v":""},null,{"$f":"'DATA ENTRY'!$F$9","v":0},null,"  ",null,"          ",null,"  ",null,null,null,{"$f":"'DATA ENTRY'!$D$15","v":6},null,{"$f":"IF('DATA ENTRY'!$E$15>0,'DATA ENTRY'!$E$15,\"\")","v":""},null,{"$f":"'DATA ENTRY'!$F$15","v":0},null,null,null,null,null,null,null,null,null,{"$f":"'DATA ENTRY'!$D$21","v":5},null,{"$f":"IF('DATA ENTRY'!$E$21>0,'DATA ENTRY'!$E$21,\"\")","v":""},null,{"$f":"'DATA ENTRY'!$F$21","v":0}]
[null,null,null,null,null,null,null,null,null,null,"  ","           ","     "]
[null,null,{"$f":"'DATA ENTRY'!$D$9","v":4},{"$f":"'DATA ENTRY'!$D$9","v":4},{"$f":"'DATA ENTRY'!$D$9","v":4},{"$f":"IF('DATA ENTRY'!$E$9>0,'DATA ENTRY'!$E$9,'DATA ENTRY'!$D$9)","v":4},{"$f":"IF('DATA ENTRY'!$E$9>0,'DATA ENTRY'!$E$9,'DATA ENTRY'!$F$9)","v":0},{"$f":"'DATA ENTRY'!$F$9","v":0},{"$f":"'DATA ENTRY'!$F$9","v":0},{"$f":"'DATA ENTRY'!$F$9","v":0},null,null,null,null,null,null,{"$f":"'DATA ENTRY'!$D$15","v":6},{"$f":"'DATA ENTRY'!$D$15","v":6},{"$f":"'DATA ENTRY'!$D$15","v":6},{"$f":"IF('DATA ENTRY'!$E$15>0,'DATA ENTRY'!$E$15,'DATA ENTRY'!$D$15)","v":6},{"$f":"IF('DATA ENTRY'!$E$15>0,'DATA ENTRY'!$E$15,'DATA ENTRY'!$F$15)","v":0},{"$f":"'DATA ENTRY'!$F$15","v":0},{"$f":"'DATA ENTRY'!$F$15","v":0},{"$f":"'DATA ENTRY'!$F$15","v":0},null,null,null,null,null,null,{"$f":"'DATA ENTRY'!$D$21","v":5},{"$f":"'DATA ENTRY'!$D$21","v":5},{"$f":"'DATA ENTRY'!$D$21","v":5},{"$f":"IF('DATA ENTRY'!$E$21>0,'DATA ENTRY'!$E$21,'DATA ENTRY'!$D$21)","v":5},{"$f":"IF('DATA ENTRY'!$E$21>0,'DATA ENTRY'!$E$21,'DATA ENTRY'!$F$21)","v":0},{"$f":"'DATA ENTRY'!$F$21","v":0},{"$f":"'DATA ENTRY'!$F$21","v":0},{"$f":"'DATA ENTRY'!$F$21","v":0}]
[{"$f":"'DATA ENTRY'!$B$9","v":38},null,null,null,{"$f":"IF('DATA ENTRY'!$F$9>0,'DATA ENTRY'!$C$9,\"\")","v":""},null,{"$f":"IF('DATA ENTRY'!$D$9>0,'DATA ENTRY'!$C$9,\"\")","v":16},null,null,null,null,null,null,null,{"$f":"'DATA ENTRY'!$B$15","v":26},null,null,null,{"$f":"IF('DATA ENTRY'!$F$15>0,'DATA ENTRY'!$C$15,\"\")","v":""},null,{"$f":"IF('DATA ENTRY'!$D$15>0,'DATA ENTRY'!$C$15,\"\")","v":19},null,null,null,null,null,null,null,{"$f":"'DATA ENTRY'!$B$21","v":36},null,null,null,{"$f":"IF('DATA ENTRY'!$F$21>0,'DATA ENTRY'!$C$21,\"\")","v":""},null,{"$f":"IF('DATA ENTRY'!$D$21>0,'DATA ENTRY'!$C$21,\"\")","v":27},null,null,null,null,"DATE",{"$f":"'DATA ENTRY'!C2","v":"2019-08-17"}]
[]
[]
[null,null,null,null,null,null,null,null,null,null,null,null,null,null,"100 yd mkr"]
[]
[]
["# 3",null,null,null,null,null,null,null,null,null,null,null,null,null,"# 9",null,null,null,null,null,null,null,null,null,null,null,null,null,"# 15"]
[null,null,null,{"$f":"'DATA ENTRY'!$D$10","v":6},null,{"$f":"IF('DATA ENTRY'!$E$10>0,'DATA ENTRY'!$E$10,\"\")","v":""},null,{"$f":"'DATA ENTRY'!$F$10","v":6},null,"  ",null,"          ",null,"  ",null,null,null,{"$f":"'DATA ENTRY'!$D$16","v":0},null,{"$f":"IF('DATA ENTRY'!$E$16>0,'DATA ENTRY'!$E$16,\"\")","v":5},null,{"$f":"'DATA ENTRY'!$F$16","v":0},null,null,null,null,null,null,null,null,null,{"$f":"'DATA ENTRY'!$D$22","v":0},null,{"$f":"IF('DATA ENTRY'!$E$22>0,'DATA ENTRY'!$E$22,\"\")","v":""},null,{"$f":"'DATA ENTRY'!$F$22","v":9}]
[]
[null,null,{"$f":"'DATA ENTRY'!$D$10","v":6},{"$f":"'DATA ENTRY'!$D$10","v":6},{"$f":"'DATA ENTRY'!$D$10","v":6},{"$f":"IF('DATA ENTRY'!$E$10>0,'DATA ENTRY'!$E$10,'DATA ENTRY'!$D$10)","v":6},{"$f":"IF('DATA ENTRY'!$E$10>0,'DATA ENTRY'!$E$10,'DATA ENTRY'!$F$10)","v":6},{"$f":"'DATA ENTRY'!$F$10","v":6},{"$f":"'DATA ENTRY'!$F$10","v":6},{"$f":"'DATA ENTRY'!$F$10","v":6},null,null,null,null,null,null,{"$f":"'DATA ENTRY'!$D$16","v":0},{"$f":"'DATA ENTRY'!$D$16","v":0},{"$f":"'DATA ENTRY'!$D$16","v":0},{"$f":"IF('DATA ENTRY'!$E$16>0,'DATA ENTRY'!$E$16,'DATA ENTRY'!$D$16)","v":5},{"$f":"IF('DATA ENTRY'!$E$16>0,'DATA ENTRY'!$E$16,'DATA ENTRY'!$F$16)","v":5},{"$f":"'DATA ENTRY'!$F$16","v":0},{"$f":"'DATA ENTRY'!$F$16","v":0},{"$f":"'DATA ENTRY'!$F$16","v":0},null,null,null,null,null,null,{"$f":"'DATA ENTRY'!$D$22","v":0},{"$f":"'DATA ENTRY'!$D$22","v":0},{"$f":"'DATA ENTRY'!$D$22","v":0},{"$f":"IF('DATA ENTRY'!$E$22>0,'DATA ENTRY'!$E$22,'DATA ENTRY'!$D$22)","v":0},{"$f":"IF('DATA ENTRY'!$E$22>0,'DATA ENTRY'!$E$22,'DATA ENTRY'!$F$22)","v":9},{"$f":"'DATA ENTRY'!$F$22","v":9},{"$f":"'DATA ENTRY'!$F$22","v":9},{"$f":"'DATA ENTRY'!$F$22","v":9}]
[{"$f":"'DATA ENTRY'!$B$10","v":36},null,null,null,{"$f":"IF('DATA ENTRY'!$F$10>0,'DATA ENTRY'!$C$10,\"\")","v":32},null,null,null,null,null,null,null,null,null,{"$f":"'DATA ENTRY'!$B$16","v":40},null,null,null,{"$f":"IF('DATA ENTRY'!$F$16>0,'DATA ENTRY'!$C$16,\"\")","v":""},null,{"$f":"IF('DATA ENTRY'!$D$16>0,'DATA ENTRY'!$C$16,\"\")","v":""},null,null,null,null,null,null,null,{"$f":"'DATA ENTRY'!$B$22","v":29},null,null,null,{"$f":"IF('DATA ENTRY'!$F$22>0,'DATA ENTRY'!$C$22,\"\")","v":26},null,{"$f":"IF('DATA ENTRY'!$D$22>0,'DATA ENTRY'!$C$22,\"\")","v":""}]
[]
[]
["100 yd mkr",null,null,null,null,null,null,null,null,null,null,null,null,null,null,null,null,null,null,null,null,null,null,null,null,null,null,null,null,null,null,null,null,null,null,null,null,null,null,"TOURNAMENT",{"$f":"'DATA ENTRY'!C3","v":"Dick's Sporting Goods Open"}]
[]
[]
["# 4",null,null,null,null,null,null,null,null,null,null,null,null,null,"# 10",null,null,null,null,null,null,null,null,null,null,null,null,null,"# 16"]
[null,null,null,{"$f":"'DATA ENTRY'!$D$11","v":4},null,{"$f":"IF('DATA ENTRY'!$E$11>0,'DATA ENTRY'!$E$11,\"\")","v":""},null,{"$f":"'DATA ENTRY'!$F$11","v":0},null,"  ",null,"          ",null,"  ",null,null,null,{"$f":"'DATA ENTRY'!$D$17","v":3},null,{"$f":"IF('DATA ENTRY'!$E$17>0,'DATA ENTRY'!$E$17,\"\")","v":""},null,{"$f":"'DATA ENTRY'!$F$17","v":0},null,null,null,null,null,null,null,null,null,{"$f":"'DATA ENTRY'!$D$23","v":0},null,{"$f":"IF('DATA ENTRY'!$E$23>0,'DATA ENTRY'!$E$23,\"\")","v":""},null,{"$f":"'DATA ENTRY'!$F$23","v":9}]
[]
[null,null,{"$f":"'DATA ENTRY'!$D$11","v":4},{"$f":"'DATA ENTRY'!$D$11","v":4},{"$f":"'DATA ENTRY'!$D$11","v":4},{"$f":"IF('DATA ENTRY'!$E$11>0,'DATA ENTRY'!$E$11,'DATA ENTRY'!$D$11)","v":4},{"$f":"IF('DATA ENTRY'!$E$11>0,'DATA ENTRY'!$E$11,'DATA ENTRY'!$F$11)","v":0},{"$f":"'DATA ENTRY'!$F$11","v":0},{"$f":"'DATA ENTRY'!$F$11","v":0},{"$f":"'DATA ENTRY'!$F$11","v":0},null,null,null,null,null,null,{"$f":"'DATA ENTRY'!$D$17","v":3},{"$f":"'DATA ENTRY'!$D$17","v":3},{"$f":"'DATA ENTRY'!$D$17","v":3},{"$f":"IF('DATA ENTRY'!$E$17>0,'DATA ENTRY'!$E$17,'DATA ENTRY'!$D$17)","v":3},{"$f":"IF('DATA ENTRY'!$E$17>0,'DATA ENTRY'!$E$17,'DATA ENTRY'!$F$17)","v":0},{"$f":"'DATA ENTRY'!$F$17","v":0},{"$f":"'DATA ENTRY'!$F$17","v":0},{"$f":"'DATA ENTRY'!$F$17","v":0},null,null,null,null,null,null,{"$f":"'DATA ENTRY'!$D$23","v":0},{"$f":"'DATA ENTRY'!$D$23","v":0},{"$f":"'DATA ENTRY'!$D$23","v":0},{"$f":"IF('DATA ENTRY'!$E$23>0,'DATA ENTRY'!$E$23,'DATA ENTRY'!$D$23)","v":0},{"$f":"IF('DATA ENTRY'!$E$23>0,'DATA ENTRY'!$E$23,'DATA ENTRY'!$F$23)","v":9},{"$f":"'DATA ENTRY'!$F$23","v":9},{"$f":"'DATA ENTRY'!$F$23","v":9},{"$f":"'DATA ENTRY'!$F$23","v":9}]
[{"$f":"'DATA ENTRY'!$B$11","v":41},null,null,null,null,null,{"$f":"IF('DATA ENTRY'!$D$11>0,'DATA ENTRY'!$C$11,\"\")","v":25},null,null,null,null,null,null,null,{"$f":"'DATA ENTRY'!$B$17","v":40},null,null,null,{"$f":"IF('DATA ENTRY'!$F$17>0,'DATA ENTRY'!$C$17,\"\")","v":""},null,{"$f":"IF('DATA ENTRY'!$D$17>0,'DATA ENTRY'!$C$17,\"\")","v":8},null,null,null,null,null,null,null,{"$f":"'DATA ENTRY'!$B$23","v":27},null,null,null,{"$f":"IF('DATA ENTRY'!$F$23>0,'DATA ENTRY'!$C$23,\"\")","v":22},null,{"$f":"IF('DATA ENTRY'!$D$23>0,'DATA ENTRY'!$C$23,\"\")","v":""}]
[]
[]
[]
[]
[]
["# 5",null,null,null,null,null,null,null,null,null,null,"          ",null,"  ","#11",null,null,null,null,null,null,null,null,null,null,null,null,null,"# 17"]
[null,null,null,{"$f":"'DATA ENTRY'!$D$12","v":0},null,{"$f":"IF('DATA ENTRY'!$E$12>0,'DATA ENTRY'!$E$12,\"\")","v":""},null,{"$f":"'DATA ENTRY'!$F$12","v":5},null,"  ",null,null,null,null,null,null,null,{"$f":"'DATA ENTRY'!$D$18","v":4},null,{"$f":"IF('DATA ENTRY'!$E$18>0,'DATA ENTRY'!$E$18,\"\")","v":""},null,{"$f":"'DATA ENTRY'!$F$18","v":0},null,null,null,null,null,null,null,null,null,{"$f":"'DATA ENTRY'!$D$24","v":0},null,{"$f":"IF('DATA ENTRY'!$E$24>0,'DATA ENTRY'!$E$24,\"\")","v":""},null,{"$f":"'DATA ENTRY'!$F$24","v":4}]
[]
[null,null,{"$f":"'DATA ENTRY'!$D$12","v":0},{"$f":"'DATA ENTRY'!$D$12","v":0},{"$f":"'DATA ENTRY'!$D$12","v":0},{"$f":"IF('DATA ENTRY'!$E$12>0,'DATA ENTRY'!$E$12,'DATA ENTRY'!$D$12)","v":0},{"$f":"IF('DATA ENTRY'!$E$12>0,'DATA ENTRY'!$E$12,'DATA ENTRY'!$F$12)","v":5},{"$f":"'DATA ENTRY'!$F$12","v":5},{"$f":"'DATA ENTRY'!$F$12","v":5},{"$f":"'DATA ENTRY'!$F$12","v":5},null,null,null,null,null,null,{"$f":"'DATA ENTRY'!$D$18","v":4},{"$f":"'DATA ENTRY'!$D$18","v":4},{"$f":"'DATA ENTRY'!$D$18","v":4},{"$f":"IF('DATA ENTRY'!$E$18>0,'DATA ENTRY'!$E$18,'DATA ENTRY'!$D$18)","v":4},{"$f":"IF('DATA ENTRY'!$E$18>0,'DATA ENTRY'!$E$18,'DATA ENTRY'!$F$18)","v":0},{"$f":"'DATA ENTRY'!$F$18","v":0},{"$f":"'DATA ENTRY'!$F$18","v":0},{"$f":"'DATA ENTRY'!$F$18","v":0},null,null,null,null,null,null,{"$f":"'DATA ENTRY'!$D$24","v":0},{"$f":"'DATA ENTRY'!$D$24","v":0},{"$f":"'DATA ENTRY'!$D$24","v":0},{"$f":"IF('DATA ENTRY'!$E$24>0,'DATA ENTRY'!$E$24,'DATA ENTRY'!$D$24)","v":0},{"$f":"IF('DATA ENTRY'!$E$24>0,'DATA ENTRY'!$E$24,'DATA ENTRY'!$F$24)","v":4},{"$f":"'DATA ENTRY'!$F$24","v":4},{"$f":"'DATA ENTRY'!$F$24","v":4},{"$f":"'DATA ENTRY'!$F$24","v":4}]
[{"$f":"'DATA ENTRY'!$B$12","v":35},null,null,null,{"$f":"IF('DATA ENTRY'!$F$12>0,'DATA ENTRY'!$C$12,\"\")","v":6},null,{"$f":"IF('DATA ENTRY'!$D$12>0,'DATA ENTRY'!$C$12,\"\")","v":""},null,null,null,null,"          ",null,"  ",{"$f":"'DATA ENTRY'!$B$18","v":35},null,null,null,{"$f":"IF('DATA ENTRY'!$F$18>0,'DATA ENTRY'!$C$18,\"\")","v":""},null,{"$f":"IF('DATA ENTRY'!$D$18>0,'DATA ENTRY'!$C$18,\"\")","v":30},null,null,null,null,null,null,null,{"$f":"'DATA ENTRY'!$B$24","v":47},null,null,null,{"$f":"IF('DATA ENTRY'!$F$24>0,'DATA ENTRY'!$C$24,\"\")","v":22}]
[null,null,null,null,null,null,null,null,null,null,null,null,null,null,null,null,null,null,null,null,null,null,null,null,null,null,null,null,null,null,null,null,null,null,null,null,null,null,null,"COURSE",{"$f":"'DATA ENTRY'!C4","v":"En-Joie Golf Club"}]
[]
["100 yd mkr"]
[]
[]
["# 6",null,null,null,null,null,null,null,null,null,null,null,null,null,"# 12",null,null,null,null,null,null,null,null,null,null,null,null,null,"# 18"]
[null,null,null,{"$f":"'DATA ENTRY'!$D$13","v":4},null,{"$f":"IF('DATA ENTRY'!$E$13>0,'DATA ENTRY'!$E$13,\"\")","v":""},null,{"$f":"'DATA ENTRY'!$F$13","v":0},null,"  ",null,null,null,null,null,null,null,{"$f":"'DATA ENTRY'!$D$19","v":7},null,{"$f":"IF('DATA ENTRY'!$E$19>0,'DATA ENTRY'!$E$19,\"\")","v":""},null,{"$f":"'DATA ENTRY'!$F$19","v":14},null,null,null,null,null,null,null,null,null,{"$f":"'DATA ENTRY'!$D$25","v":7},null,{"$f":"IF('DATA ENTRY'!$E$25>0,'DATA ENTRY'!$E$25,\"\")","v":""},null,{"$f":"'DATA ENTRY'!$F$25","v":0}]
[]
[null,null,{"$f":"'DATA ENTRY'!$D$13","v":4},{"$f":"'DATA ENTRY'!$D$13","v":4},{"$f":"'DATA ENTRY'!$D$13","v":4},{"$f":"IF('DATA ENTRY'!$E$13>0,'DATA ENTRY'!$E$13,'DATA ENTRY'!$D$13)","v":4},{"$f":"IF('DATA ENTRY'!$E$13>0,'DATA ENTRY'!$E$13,'DATA ENTRY'!$F$13)","v":0},{"$f":"'DATA ENTRY'!$F$13","v":0},{"$f":"'DATA ENTRY'!$F$13","v":0},{"$f":"'DATA ENTRY'!$F$13","v":0},null,null,null,null,null,null,{"$f":"'DATA ENTRY'!$D$19","v":7},{"$f":"'DATA ENTRY'!$D$19","v":7},{"$f":"'DATA ENTRY'!$D$19","v":7},{"$f":"IF('DATA ENTRY'!$E$19>0,'DATA ENTRY'!$E$19,'DATA ENTRY'!$D$19)","v":7},{"$f":"IF('DATA ENTRY'!$E$19>0,'DATA ENTRY'!$E$19,'DATA ENTRY'!$F$19)","v":14},{"$f":"'DATA ENTRY'!$F$19","v":14},{"$f":"'DATA ENTRY'!$F$19","v":14},{"$f":"'DATA ENTRY'!$F$19","v":14},null,null,null,null,null,null,{"$f":"'DATA ENTRY'!$D$25","v":7},{"$f":"'DATA ENTRY'!$D$25","v":7},{"$f":"'DATA ENTRY'!$D$25","v":7},{"$f":"IF('DATA ENTRY'!$E$25>0,'DATA ENTRY'!$E$25,'DATA ENTRY'!$D$25)","v":7},{"$f":"IF('DATA ENTRY'!$E$25>0,'DATA ENTRY'!$E$25,'DATA ENTRY'!$F$25)","v":0},{"$f":"'DATA ENTRY'!$F$25","v":0},{"$f":"'DATA ENTRY'!$F$25","v":0},{"$f":"'DATA ENTRY'!$F$25","v":0}]
[{"$f":"'DATA ENTRY'!$B$13","v":39},null,null,null,{"$f":"IF('DATA ENTRY'!$F$13>0,'DATA ENTRY'!$C$13,\"\")","v":""},null,{"$f":"IF('DATA ENTRY'!$D$13>0,'DATA ENTRY'!$C$13,\"\")","v":35},null,null,null,null,null,null,null,{"$f":"'DATA ENTRY'!$B$19","v":26},null,null,null,null,null,{"$f":"IF('DATA ENTRY'!$D$19>0,'DATA ENTRY'!$C$19,\"\")","v":23},null,null,null,null,null,null,null,{"$f":"'DATA ENTRY'!$B$25","v":35},null,null,null,{"$f":"IF('DATA ENTRY'!$F$25>0,'DATA ENTRY'!$C$25,\"\")","v":""},null,{"$f":"IF('DATA ENTRY'!$D$25>0,'DATA ENTRY'!$C$25,\"\")","v":28}]
[null,null,null,null,null,null,null,null,null,null,null,"          ",null,"  "]
[null,null,null,null,null,null,null,null,null,null,null,null,"     "]
[null,null,null,null,null,null,null,null,null,null,null,null,null,null,"100 yd mkr"]